BEGIN:VCALENDAR
VERSION:2.0
PRODID:-//Office of the Brooklyn Borough President Antonio Reynoso - ECPv6.15.20//NONSGML v1.0//EN
CALSCALE:GREGORIAN
METHOD:PUBLISH
X-WR-CALNAME:Office of the Brooklyn Borough President Antonio Reynoso
X-ORIGINAL-URL:https://www.brooklynbp.nyc.gov
X-WR-CALDESC:Events for Office of the Brooklyn Borough President Antonio Reynoso
REFRESH-INTERVAL;VALUE=DURATION:PT1H
X-Robots-Tag:noindex
X-PUBLISHED-TTL:PT1H
BEGIN:VTIMEZONE
TZID:America/Halifax
BEGIN:DAYLIGHT
TZOFFSETFROM:-0400
TZOFFSETTO:-0300
TZNAME:ADT
DTSTART:20240310T060000
END:DAYLIGHT
BEGIN:STANDARD
TZOFFSETFROM:-0300
TZOFFSETTO:-0400
TZNAME:AST
DTSTART:20241103T050000
END:STANDARD
BEGIN:DAYLIGHT
TZOFFSETFROM:-0400
TZOFFSETTO:-0300
TZNAME:ADT
DTSTART:20250309T060000
END:DAYLIGHT
BEGIN:STANDARD
TZOFFSETFROM:-0300
TZOFFSETTO:-0400
TZNAME:AST
DTSTART:20251102T050000
END:STANDARD
BEGIN:DAYLIGHT
TZOFFSETFROM:-0400
TZOFFSETTO:-0300
TZNAME:ADT
DTSTART:20260308T060000
END:DAYLIGHT
BEGIN:STANDARD
TZOFFSETFROM:-0300
TZOFFSETTO:-0400
TZNAME:AST
DTSTART:20261101T050000
END:STANDARD
END:VTIMEZONE
BEGIN:VEVENT
DTSTART;TZID=America/Halifax:20250808T110000
DTEND;TZID=America/Halifax:20250808T150000
DTSTAMP:20260423T081135
CREATED:20250724T212310Z
LAST-MODIFIED:20250825T171411Z
UID:82197-1754650800-1754665200@www.brooklynbp.nyc.gov
SUMMARY:National Health Center Week
DESCRIPTION:
URL:https://www.brooklynbp.nyc.gov/event/national-health-center-week/
LOCATION:1095 Flatbush Ave\, 1095 Flatbush. Ave\, Brooklyn\, NY\, 11226\, United States
ATTACH;FMTTYPE=application/pdf:https://www.brooklynbp.nyc.gov/wp-content/uploads/2025/07/NHCW-Flyers-Brooklyn39.pdf
END:VEVENT
BEGIN:VEVENT
DTSTART;TZID=America/Halifax:20250809T100000
DTEND;TZID=America/Halifax:20250809T170000
DTSTAMP:20260423T081135
CREATED:20250804T200837Z
LAST-MODIFIED:20250825T171411Z
UID:82227-1754733600-1754758800@www.brooklynbp.nyc.gov
SUMMARY:Foster Youth luggage of Love Drive
DESCRIPTION:
URL:https://www.brooklynbp.nyc.gov/event/foster-youth-luggage-of-love-drive/
LOCATION:Brooklyn Borough Hall\, 209 Joralemon St.\, Brooklyn\, NY\, 11201\, United States
ATTACH;FMTTYPE=image/jpeg:https://www.brooklynbp.nyc.gov/wp-content/uploads/2025/08/525344261_18092948632644626_6317537564410309188_n-e1754336496398.jpg
END:VEVENT
BEGIN:VEVENT
DTSTART;TZID=America/Halifax:20250813T110000
DTEND;TZID=America/Halifax:20250813T150000
DTSTAMP:20260423T081135
CREATED:20250813T152114Z
LAST-MODIFIED:20250825T171411Z
UID:82288-1755082800-1755097200@www.brooklynbp.nyc.gov
SUMMARY:Children's Summer Village
DESCRIPTION:
URL:https://www.brooklynbp.nyc.gov/event/childrens-summer-village/
LOCATION:Brooklyn Borough Hall\, 209 Joralemon St.\, Brooklyn\, NY\, 11201\, United States
ATTACH;FMTTYPE=image/png:https://www.brooklynbp.nyc.gov/wp-content/uploads/2025/08/thumbnail_CHILDRENS-SUMMER-VILLAGE-4-e1755094865896.png
END:VEVENT
BEGIN:VEVENT
DTSTART;TZID=America/Halifax:20250820T180000
DTEND;TZID=America/Halifax:20250820T190000
DTSTAMP:20260423T081135
CREATED:20250808T192717Z
LAST-MODIFIED:20250825T171411Z
UID:82265-1755712800-1755716400@www.brooklynbp.nyc.gov
SUMMARY:UNIFORM LAND USE REVIEW PROCEDURE PUBLIC HEARING
DESCRIPTION:Public Notice
URL:https://www.brooklynbp.nyc.gov/event/uniform-land-use-review-procedure-public-hearing-8/
LOCATION:NY
END:VEVENT
BEGIN:VEVENT
DTSTART;TZID=America/Halifax:20250821T090000
DTEND;TZID=America/Halifax:20250821T150000
DTSTAMP:20260423T081135
CREATED:20250806T142056Z
LAST-MODIFIED:20250825T171411Z
UID:82232-1755766800-1755788400@www.brooklynbp.nyc.gov
SUMMARY:Brooklyn Health & Resource Fair
DESCRIPTION:Join us for a Health & Resource Fair with free food and drinks\, family-friendly activities\, breast cancer screenings\, and giveaways. \n📅 Thursday\, August 21 \n⏰ 9am – 3pm \n📍 937 Fulton St. and Waverly Ave.\, Brooklyn\, NY 11238
URL:https://www.brooklynbp.nyc.gov/event/brooklyn-health-resource-fair/
LOCATION:937 Fulton St. and Waverly Ave.\, Brooklyn\, NY 11238\, 937 Fulton St.\, Brooklyn\, New York\, 11238\, United States
ATTACH;FMTTYPE=image/png:https://www.brooklynbp.nyc.gov/wp-content/uploads/2025/08/Brooklyn-Health-_-Resource-Fair-2025-_5__47_.png
END:VEVENT
BEGIN:VEVENT
DTSTART;TZID=America/Halifax:20250823T080000
DTEND;TZID=America/Halifax:20250823T170000
DTSTAMP:20260423T081135
CREATED:20250806T142340Z
LAST-MODIFIED:20250825T171411Z
UID:82235-1755936000-1755968400@www.brooklynbp.nyc.gov
SUMMARY:CM Nurse's Back to School Celebration
DESCRIPTION:It’s back to school season! Join us for a celebration with free live performances\, school supplies giveaways\, games\, and a movie night. \n📅 Saturday\, August 23 \n⏰ 5pm – 8pm \n📍 Jamaica Ave. and Fulton St.\, Brooklyn\, NY 11208
URL:https://www.brooklynbp.nyc.gov/event/cm-nurses-back-to-school-celebration/
LOCATION:NY
END:VEVENT
BEGIN:VEVENT
DTSTART;TZID=America/Halifax:20250827T110000
DTEND;TZID=America/Halifax:20250827T120000
DTSTAMP:20260423T081135
CREATED:20250821T194434Z
LAST-MODIFIED:20250825T194828Z
UID:82337-1756292400-1756296000@www.brooklynbp.nyc.gov
SUMMARY:United With Haiti: Rally to Save TPS
DESCRIPTION:As Donald Trump seeks to end vital legal protections for Haitian immigrants\, Brooklyn stands united with the Haitian community against this cruel decision.\n\n\nWhen you come for one of us\, you come for all of us. Join us August 27th 11am at Hillel Plaza.
URL:https://www.brooklynbp.nyc.gov/event/united-with-haiti-rally-to-save-tps/
LOCATION:Hillel Plaza\, 1 Hillel Pl\, New York City\, NY\, 11210
ATTACH;FMTTYPE=image/jpeg:https://www.brooklynbp.nyc.gov/wp-content/uploads/2025/08/536548459_18032418980694550_8940523489518118483_n-e1755801648218.jpg
END:VEVENT
END:VCALENDAR