BEGIN:VCALENDAR
VERSION:2.0
PRODID:-//Office of the Brooklyn Borough President Antonio Reynoso - ECPv6.15.20//NONSGML v1.0//EN
CALSCALE:GREGORIAN
METHOD:PUBLISH
X-WR-CALNAME:Office of the Brooklyn Borough President Antonio Reynoso
X-ORIGINAL-URL:https://www.brooklynbp.nyc.gov
X-WR-CALDESC:Events for Office of the Brooklyn Borough President Antonio Reynoso
REFRESH-INTERVAL;VALUE=DURATION:PT1H
X-Robots-Tag:noindex
X-PUBLISHED-TTL:PT1H
BEGIN:VTIMEZONE
TZID:America/Halifax
BEGIN:DAYLIGHT
TZOFFSETFROM:-0400
TZOFFSETTO:-0300
TZNAME:ADT
DTSTART:20240310T060000
END:DAYLIGHT
BEGIN:STANDARD
TZOFFSETFROM:-0300
TZOFFSETTO:-0400
TZNAME:AST
DTSTART:20241103T050000
END:STANDARD
BEGIN:DAYLIGHT
TZOFFSETFROM:-0400
TZOFFSETTO:-0300
TZNAME:ADT
DTSTART:20250309T060000
END:DAYLIGHT
BEGIN:STANDARD
TZOFFSETFROM:-0300
TZOFFSETTO:-0400
TZNAME:AST
DTSTART:20251102T050000
END:STANDARD
BEGIN:DAYLIGHT
TZOFFSETFROM:-0400
TZOFFSETTO:-0300
TZNAME:ADT
DTSTART:20260308T060000
END:DAYLIGHT
BEGIN:STANDARD
TZOFFSETFROM:-0300
TZOFFSETTO:-0400
TZNAME:AST
DTSTART:20261101T050000
END:STANDARD
END:VTIMEZONE
BEGIN:VEVENT
DTSTART;TZID=America/Halifax:20250603T180000
DTEND;TZID=America/Halifax:20250603T200000
DTSTAMP:20260422T070301
CREATED:20250521T222007Z
LAST-MODIFIED:20250825T171412Z
UID:81964-1748973600-1748980800@www.brooklynbp.nyc.gov
SUMMARY:BROOKLYN BOROUGH BOARD MEETING
DESCRIPTION:Webex Livestream\nMeeting # 2347 695 6834 | Password: MErUWdjn573\nJoin by phone:1-646-992-2010\,\, 2347 695 6834 (NYC)\n1-408-418-9388\,\, 2347 695 6834 (US) \nPublic Notice
URL:https://www.brooklynbp.nyc.gov/event/brooklyn-borough-board-meeting-4/
LOCATION:NY
END:VEVENT
BEGIN:VEVENT
DTSTART;TZID=America/Halifax:20250604T180000
DTEND;TZID=America/Halifax:20250604T203000
DTSTAMP:20260422T070301
CREATED:20250514T183708Z
LAST-MODIFIED:20250825T171411Z
UID:81934-1749060000-1749069000@www.brooklynbp.nyc.gov
SUMMARY:Brooklyn Marine Terminal (BMT) One-On-One
DESCRIPTION:Join me for a one-on-one with @NYCEDC to better understand their proposed redesign of the Brooklyn Marine Terminal and how it will impact our borough. \n📅 Wednesday\, June 4\n⏰ 6:00PM – 8:30PM\n📍 Brooklyn Borough Hall\, 209 Joralemon Street \nRSVP      Livestream \n  \n 
URL:https://www.brooklynbp.nyc.gov/event/brooklyn-marine-terminal-bmt-one-on-one/
LOCATION:Brooklyn Borough Hall\, 209 Joralemon St.\, Brooklyn\, NY\, 11201\, United States
ATTACH;FMTTYPE=image/png:https://www.brooklynbp.nyc.gov/wp-content/uploads/2025/05/EDC-BMT-1-1-FLYER-5-1-e1747241466580.png
END:VEVENT
BEGIN:VEVENT
DTSTART;TZID=America/Halifax:20250611T180000
DTEND;TZID=America/Halifax:20250611T200000
DTSTAMP:20260422T070301
CREATED:20250527T191443Z
LAST-MODIFIED:20250825T171411Z
UID:81971-1749664800-1749672000@www.brooklynbp.nyc.gov
SUMMARY:UNIFORM LAND USE REVIEW PROCEDURE PUBLIC HEARING
DESCRIPTION:Public Notice
URL:https://www.brooklynbp.nyc.gov/event/uniform-land-use-review-procedure-public-hearing-6/
LOCATION:NY
END:VEVENT
BEGIN:VEVENT
DTSTART;TZID=America/Halifax:20250620T120000
DTEND;TZID=America/Halifax:20250620T170000
DTSTAMP:20260422T070301
CREATED:20250618T210402Z
LAST-MODIFIED:20250825T171411Z
UID:82014-1750420800-1750438800@www.brooklynbp.nyc.gov
SUMMARY:Hope Over Hate
DESCRIPTION:Join us for a tribute concert for survivors and victims of gun violence. \n📅 Friday\, June 20 \n⏰ 12pm – 5pm \n📍 Brooklyn Borough Hall\, 209 Joralemon Street\, Brooklyn\, NY 11201
URL:https://www.brooklynbp.nyc.gov/event/hope-over-hate/
LOCATION:NY
ATTACH;FMTTYPE=image/jpeg:https://www.brooklynbp.nyc.gov/wp-content/uploads/2025/06/Hope-Over-Hate-e1750277014280.jpeg
END:VEVENT
BEGIN:VEVENT
DTSTART;TZID=America/Halifax:20250621T100000
DTEND;TZID=America/Halifax:20250621T170000
DTSTAMP:20260422T070301
CREATED:20250618T210941Z
LAST-MODIFIED:20250618T213639Z
UID:82016-1750500000-1750525200@www.brooklynbp.nyc.gov
SUMMARY:A Freedom Ride
DESCRIPTION:Join Good Co. Bike Club for a freedom ride in honor of Juneteenth. \n📅 Saturday\, June 21 \n⏰ 10 am \n📍 Brooklyn Museum\, 200 Eastern Pkwy\, Brooklyn\, NY 11238 
URL:https://www.brooklynbp.nyc.gov/event/a-freedom-ride/
LOCATION:Brooklyn Museum\, 200 Eastern Pkwy\, Brooklyn\, NY\, 11238\, United States
ATTACH;FMTTYPE=image/jpeg:https://www.brooklynbp.nyc.gov/wp-content/uploads/2025/06/Save-the-Date-Juneteenth-49-e1750277364234.jpg
END:VEVENT
BEGIN:VEVENT
DTSTART;TZID=America/Halifax:20250625T080000
DTEND;TZID=America/Halifax:20250625T170000
DTSTAMP:20260422T070301
CREATED:20250618T211647Z
LAST-MODIFIED:20250618T213816Z
UID:82020-1750838400-1750870800@www.brooklynbp.nyc.gov
SUMMARY:Join the Youth Advisory Council ( Closes Wednesday\, June 25\, 2025 )
DESCRIPTION:Apply now to join Borough Hall’s Youth Advisory Council\, a cohort of high school sophomores\, juniors\, and seniors passionate about making Brooklyn better. Over the course of the 2025-2026 school year\, you’ll work with peers to address issues that affect young people\, make recommendations for the Borough President\, and lead your own service project! \nApply by Wednesday\, June 25\, 2025. \nApply Now
URL:https://www.brooklynbp.nyc.gov/event/join-the-youth-advisory-council/
LOCATION:NY
ATTACH;FMTTYPE=image/png:https://www.brooklynbp.nyc.gov/wp-content/uploads/2025/06/FINAL-BKBP-Youth-Advisory-Council.png
END:VEVENT
BEGIN:VEVENT
DTSTART;TZID=America/Halifax:20250630T170000
DTEND;TZID=America/Halifax:20250630T210000
DTSTAMP:20260422T070301
CREATED:20250618T211248Z
LAST-MODIFIED:20250825T171411Z
UID:82018-1751302800-1751317200@www.brooklynbp.nyc.gov
SUMMARY:Caribbean Heritage Month Health and Wellness Ceremony
DESCRIPTION:Join us to celebrate Caribbean American Heritage Month. \n📅 Monday\, June 30 \n⏰ 5pm – 9 pm \n📍 Brooklyn Children’s Museum\, 145 Brooklyn Ave\, Brooklyn\, NY 11213
URL:https://www.brooklynbp.nyc.gov/event/caribbean-heritage-month-health-and-wellness-ceremony/
LOCATION:Brooklyn Children’s Museum\, 145 Brooklyn Ave\, Brooklyn\, 11213\, United States
ATTACH;FMTTYPE=image/png:https://www.brooklynbp.nyc.gov/wp-content/uploads/2025/06/WIADCA-Caribbean-Month-Most-Recent-Update67-e1750277465254.png
END:VEVENT
END:VCALENDAR